BEGIN:VCALENDAR
VERSION:2.0
PRODID:-//The Artist Tree Marijuana Dispensary - ECPv6.15.20//NONSGML v1.0//EN
CALSCALE:GREGORIAN
METHOD:PUBLISH
X-WR-CALNAME:The Artist Tree Marijuana Dispensary
X-ORIGINAL-URL:https://www.theartisttree.com
X-WR-CALDESC:Events for The Artist Tree Marijuana Dispensary
REFRESH-INTERVAL;VALUE=DURATION:PT1H
X-Robots-Tag:noindex
X-PUBLISHED-TTL:PT1H
BEGIN:VTIMEZONE
TZID:America/Los_Angeles
BEGIN:DAYLIGHT
TZOFFSETFROM:-0800
TZOFFSETTO:-0700
TZNAME:PDT
DTSTART:20250309T100000
END:DAYLIGHT
BEGIN:STANDARD
TZOFFSETFROM:-0700
TZOFFSETTO:-0800
TZNAME:PST
DTSTART:20251102T090000
END:STANDARD
BEGIN:DAYLIGHT
TZOFFSETFROM:-0800
TZOFFSETTO:-0700
TZNAME:PDT
DTSTART:20260308T100000
END:DAYLIGHT
BEGIN:STANDARD
TZOFFSETFROM:-0700
TZOFFSETTO:-0800
TZNAME:PST
DTSTART:20261101T090000
END:STANDARD
BEGIN:DAYLIGHT
TZOFFSETFROM:-0800
TZOFFSETTO:-0700
TZNAME:PDT
DTSTART:20270314T100000
END:DAYLIGHT
BEGIN:STANDARD
TZOFFSETFROM:-0700
TZOFFSETTO:-0800
TZNAME:PST
DTSTART:20271107T090000
END:STANDARD
END:VTIMEZONE
BEGIN:VEVENT
DTSTART;TZID=America/Los_Angeles:20260426T160000
DTEND;TZID=America/Los_Angeles:20260426T180000
DTSTAMP:20260421T122707
CREATED:20260311T194115Z
LAST-MODIFIED:20260330T234754Z
UID:33952-1777219200-1777226400@www.theartisttree.com
SUMMARY:Puff\, Puff\, Paint: Get Creative With Your Buds
DESCRIPTION:We invite you to free your mind and create a unique and elevated painting experience. Come early to enjoy our lounge before getting creative. Bring an open mind and some clothes you don’t mind getting a little paint on. See you then! \nThe class will feature artist Stormy Tripp owner of The Painting Joint.
URL:https://www.theartisttree.com/event/puff-puff-paint-get-creative-with-your-buds-5/
LOCATION:Cannabis Lounge <strong>Hawthorne</strong>\, 4756 W. Imperial Highway\, Hawthorne\, CA\, 90304\, United States
CATEGORIES:Hawthorne
END:VEVENT
BEGIN:VEVENT
DTSTART;TZID=America/Los_Angeles:20260524T160000
DTEND;TZID=America/Los_Angeles:20260524T180000
DTSTAMP:20260421T122707
CREATED:20260402T184355Z
LAST-MODIFIED:20260416T050339Z
UID:34088-1779638400-1779645600@www.theartisttree.com
SUMMARY:Puff\, Puff\, Paint: Get Creative With Your Buds
DESCRIPTION:We invite you to free your mind and create a unique and elevated painting experience. Come early to enjoy our lounge before getting creative. Bring an open mind and some clothes you don’t mind getting a little paint on. See you then! \nThe class will feature artist Stormy Tripp owner of The Painting Joint.
URL:https://www.theartisttree.com/event/puff-puff-paint-get-creative-with-your-buds-6/
LOCATION:Cannabis Lounge <strong>West Hollywood</strong>\, CA\, United States
CATEGORIES:Weho
ATTACH;FMTTYPE=image/jpeg:https://www.theartisttree.com/wp-content/uploads/2026/03/May-24-WeHo-Spring-Landscape-May.jpg
END:VEVENT
BEGIN:VEVENT
DTSTART;TZID=America/Los_Angeles:20260611T120000
DTEND;TZID=America/Los_Angeles:20260611T150000
DTSTAMP:20260421T122707
CREATED:20260311T193328Z
LAST-MODIFIED:20260416T045857Z
UID:33946-1781179200-1781190000@www.theartisttree.com
SUMMARY:Puff\, Pass & Goal: Mexico World Cup Watch Party
DESCRIPTION:Join us at The Artist Tree Hawthorne as we celebrate Mexico’s first World Cup match with an unforgettable watch party. \nWe’ll be showing the game live starting at 12:00 PM on June 11\, bringing fans together to cheer on El Tri in an energetic\, community atmosphere. \nThroughout the event\, guests can enjoy cannabis brand tastings\, exclusive giveaways\, and a few surprises along the way. Whether you’re a lifelong fútbol fan or just looking for a fun afternoon\, this is the perfect place to watch the match with fellow supporters. \nEvent Details\n📅 Date: June 11\n⏰ Time: 12:00 PM – 3:00 PM\n📍 Location: The Artist Tree Hawthorne \nWhat to Expect\n\nLive screening of Mexico’s World Cup match\nCannabis brand tastings\nGiveaways and surprises\nA lively fútbol watch party atmosphere\n\nCome early\, grab your spot\, and get ready to cheer on El Tri with the community.
URL:https://www.theartisttree.com/event/puff-pass-goal-mexico-world-cup-watch-party/
LOCATION:Cannabis Lounge <strong>Hawthorne</strong>\, 4756 W. Imperial Highway\, Hawthorne\, CA\, 90304\, United States
CATEGORIES:Hawthorne
ATTACH;FMTTYPE=image/jpeg:https://www.theartisttree.com/wp-content/uploads/2026/03/June-11-Hawthorne-World-Cup-Watch-Party.jpg
END:VEVENT
BEGIN:VEVENT
DTSTART;TZID=America/Los_Angeles:20260612T180000
DTEND;TZID=America/Los_Angeles:20260612T210000
DTSTAMP:20260421T122707
CREATED:20260402T204301Z
LAST-MODIFIED:20260416T050033Z
UID:34092-1781287200-1781298000@www.theartisttree.com
SUMMARY:Puff\, Pass & Goal: USA World Cup Watch Party
DESCRIPTION:Join us at The Artist Tree West Hollywood as we celebrate the USA’s first World Cup match with an unforgettable watch party. \nWe’ll be showing the game live starting at 6:00 PM on June 12\, bringing fans together to cheer on USA in an energetic\, community atmosphere. \nWhether you’re a lifelong fútbol fan or just looking for a fun afternoon\, this is the perfect place to watch the match with fellow supporters. \nEvent Details\n📅 Date: June 12th\n⏰ Time: 6:00 PM – 9:00 PM\n📍 Location: The Artist Tree West Hollywood \nCome early\, grab your spot\, and get ready to cheer on USA with the community.
URL:https://www.theartisttree.com/event/puff-pass-goal-usa-world-cup-watch-party/
LOCATION:Cannabis Lounge <strong>West Hollywood</strong>\, CA\, United States
CATEGORIES:Weho
ATTACH;FMTTYPE=image/jpeg:https://www.theartisttree.com/wp-content/uploads/2026/03/June-12-WeHo.jpg
END:VEVENT
BEGIN:VEVENT
DTSTART;TZID=America/Los_Angeles:20260628T160000
DTEND;TZID=America/Los_Angeles:20260628T180000
DTSTAMP:20260421T122707
CREATED:20260402T184505Z
LAST-MODIFIED:20260416T050151Z
UID:34089-1782662400-1782669600@www.theartisttree.com
SUMMARY:Puff\, Puff\, Paint: Get Creative With Your Buds
DESCRIPTION:We invite you to free your mind and create a unique and elevated painting experience. Come early to enjoy our lounge before getting creative. Bring an open mind and some clothes you don’t mind getting a little paint on. See you then! \nThe class will feature artist Stormy Tripp owner of The Painting Joint.
URL:https://www.theartisttree.com/event/puff-puff-paint-get-creative-with-your-buds-7/
LOCATION:Cannabis Lounge <strong>Hawthorne</strong>\, 4756 W. Imperial Highway\, Hawthorne\, CA\, 90304\, United States
CATEGORIES:Hawthorne
ATTACH;FMTTYPE=image/jpeg:https://www.theartisttree.com/wp-content/uploads/2026/03/June-28-Hawthorne.jpg
END:VEVENT
END:VCALENDAR