BEGIN:VCALENDAR
VERSION:2.0
PRODID:-//The Artist Tree Marijuana Dispensary - ECPv6.15.20//NONSGML v1.0//EN
CALSCALE:GREGORIAN
METHOD:PUBLISH
X-WR-CALNAME:The Artist Tree Marijuana Dispensary
X-ORIGINAL-URL:https://www.theartisttree.com
X-WR-CALDESC:Events for The Artist Tree Marijuana Dispensary
REFRESH-INTERVAL;VALUE=DURATION:PT1H
X-Robots-Tag:noindex
X-PUBLISHED-TTL:PT1H
BEGIN:VTIMEZONE
TZID:America/Los_Angeles
BEGIN:DAYLIGHT
TZOFFSETFROM:-0800
TZOFFSETTO:-0700
TZNAME:PDT
DTSTART:20240310T100000
END:DAYLIGHT
BEGIN:STANDARD
TZOFFSETFROM:-0700
TZOFFSETTO:-0800
TZNAME:PST
DTSTART:20241103T090000
END:STANDARD
BEGIN:DAYLIGHT
TZOFFSETFROM:-0800
TZOFFSETTO:-0700
TZNAME:PDT
DTSTART:20250309T100000
END:DAYLIGHT
BEGIN:STANDARD
TZOFFSETFROM:-0700
TZOFFSETTO:-0800
TZNAME:PST
DTSTART:20251102T090000
END:STANDARD
BEGIN:DAYLIGHT
TZOFFSETFROM:-0800
TZOFFSETTO:-0700
TZNAME:PDT
DTSTART:20260308T100000
END:DAYLIGHT
BEGIN:STANDARD
TZOFFSETFROM:-0700
TZOFFSETTO:-0800
TZNAME:PST
DTSTART:20261101T090000
END:STANDARD
END:VTIMEZONE
BEGIN:VEVENT
DTSTART;TZID=America/Los_Angeles:20251230T180000
DTEND;TZID=America/Los_Angeles:20251230T210000
DTSTAMP:20260423T194623
CREATED:20251202T170126Z
LAST-MODIFIED:20251202T220548Z
UID:27899-1767117600-1767128400@www.theartisttree.com
SUMMARY:710 Labs Terp Trail
DESCRIPTION:Go on a Terp Trail led by 710 Lab’s very own Lucas! Spend 45$ in the dispensary and get to participate in a journey down the terp trail trying the flavors that 710 Labs has to offer. Bring your friends and anyone else that likes to travel.
URL:https://www.theartisttree.com/event/710-labs-terp-trail-3/
LOCATION:Cannabis Lounge <strong>Hawthorne</strong>\, 4756 W. Imperial Highway\, Hawthorne\, CA\, 90304\, United States
CATEGORIES:Hawthorne
END:VEVENT
END:VCALENDAR