BEGIN:VCALENDAR
VERSION:2.0
PRODID:-//The Artist Tree Marijuana Dispensary - ECPv6.15.20//NONSGML v1.0//EN
CALSCALE:GREGORIAN
METHOD:PUBLISH
X-ORIGINAL-URL:https://www.theartisttree.com
X-WR-CALDESC:Events for The Artist Tree Marijuana Dispensary
REFRESH-INTERVAL;VALUE=DURATION:PT1H
X-Robots-Tag:noindex
X-PUBLISHED-TTL:PT1H
BEGIN:VTIMEZONE
TZID:America/Los_Angeles
BEGIN:DAYLIGHT
TZOFFSETFROM:-0800
TZOFFSETTO:-0700
TZNAME:PDT
DTSTART:20250309T100000
END:DAYLIGHT
BEGIN:STANDARD
TZOFFSETFROM:-0700
TZOFFSETTO:-0800
TZNAME:PST
DTSTART:20251102T090000
END:STANDARD
BEGIN:DAYLIGHT
TZOFFSETFROM:-0800
TZOFFSETTO:-0700
TZNAME:PDT
DTSTART:20260308T100000
END:DAYLIGHT
BEGIN:STANDARD
TZOFFSETFROM:-0700
TZOFFSETTO:-0800
TZNAME:PST
DTSTART:20261101T090000
END:STANDARD
BEGIN:DAYLIGHT
TZOFFSETFROM:-0800
TZOFFSETTO:-0700
TZNAME:PDT
DTSTART:20270314T100000
END:DAYLIGHT
BEGIN:STANDARD
TZOFFSETFROM:-0700
TZOFFSETTO:-0800
TZNAME:PST
DTSTART:20271107T090000
END:STANDARD
END:VTIMEZONE
BEGIN:VEVENT
DTSTART;TZID=America/Los_Angeles:20260214T170000
DTEND;TZID=America/Los_Angeles:20260214T210000
DTSTAMP:20260423T182402
CREATED:20260114T194837Z
LAST-MODIFIED:20260204T193144Z
UID:29893-1771088400-1771102800@www.theartisttree.com
SUMMARY:Lit\, Lounge\, Love
DESCRIPTION:Come into The Artist Tree Hawthorne on Valentines day from 5-9PM to enjoy edible sampling and tasting with Kanha and cannabis cocktails from the lounge! Participate in a custom tote bag design station with any Kanha LOVE purchase. \nBuy two cannabis cocktails and receive a goodie bag of cannabis products to enjoy with your beverages!
URL:https://www.theartisttree.com/event/valentines-day-movie-night-with-henrys-2/
LOCATION:Cannabis Lounge <strong>Hawthorne</strong>\, 4756 W. Imperial Highway\, Hawthorne\, CA\, 90304\, United States
CATEGORIES:Hawthorne
END:VEVENT
END:VCALENDAR