BEGIN:VCALENDAR
VERSION:2.0
PRODID:-//The Artist Tree Marijuana Dispensary - ECPv6.15.20//NONSGML v1.0//EN
CALSCALE:GREGORIAN
METHOD:PUBLISH
X-ORIGINAL-URL:https://www.theartisttree.com
X-WR-CALDESC:Events for The Artist Tree Marijuana Dispensary
REFRESH-INTERVAL;VALUE=DURATION:PT1H
X-Robots-Tag:noindex
X-PUBLISHED-TTL:PT1H
BEGIN:VTIMEZONE
TZID:America/Los_Angeles
BEGIN:DAYLIGHT
TZOFFSETFROM:-0800
TZOFFSETTO:-0700
TZNAME:PDT
DTSTART:20250309T100000
END:DAYLIGHT
BEGIN:STANDARD
TZOFFSETFROM:-0700
TZOFFSETTO:-0800
TZNAME:PST
DTSTART:20251102T090000
END:STANDARD
BEGIN:DAYLIGHT
TZOFFSETFROM:-0800
TZOFFSETTO:-0700
TZNAME:PDT
DTSTART:20260308T100000
END:DAYLIGHT
BEGIN:STANDARD
TZOFFSETFROM:-0700
TZOFFSETTO:-0800
TZNAME:PST
DTSTART:20261101T090000
END:STANDARD
BEGIN:DAYLIGHT
TZOFFSETFROM:-0800
TZOFFSETTO:-0700
TZNAME:PDT
DTSTART:20270314T100000
END:DAYLIGHT
BEGIN:STANDARD
TZOFFSETFROM:-0700
TZOFFSETTO:-0800
TZNAME:PST
DTSTART:20271107T090000
END:STANDARD
END:VTIMEZONE
BEGIN:VEVENT
DTSTART;TZID=America/Los_Angeles:20260611T120000
DTEND;TZID=America/Los_Angeles:20260611T150000
DTSTAMP:20260423T165850
CREATED:20260311T193328Z
LAST-MODIFIED:20260416T045857Z
UID:33946-1781179200-1781190000@www.theartisttree.com
SUMMARY:Puff\, Pass & Goal: Mexico World Cup Watch Party
DESCRIPTION:Join us at The Artist Tree Hawthorne as we celebrate Mexico’s first World Cup match with an unforgettable watch party. \nWe’ll be showing the game live starting at 12:00 PM on June 11\, bringing fans together to cheer on El Tri in an energetic\, community atmosphere. \nThroughout the event\, guests can enjoy cannabis brand tastings\, exclusive giveaways\, and a few surprises along the way. Whether you’re a lifelong fútbol fan or just looking for a fun afternoon\, this is the perfect place to watch the match with fellow supporters. \nEvent Details\n📅 Date: June 11\n⏰ Time: 12:00 PM – 3:00 PM\n📍 Location: The Artist Tree Hawthorne \nWhat to Expect\n\nLive screening of Mexico’s World Cup match\nCannabis brand tastings\nGiveaways and surprises\nA lively fútbol watch party atmosphere\n\nCome early\, grab your spot\, and get ready to cheer on El Tri with the community.
URL:https://www.theartisttree.com/event/puff-pass-goal-mexico-world-cup-watch-party/
LOCATION:Cannabis Lounge <strong>Hawthorne</strong>\, 4756 W. Imperial Highway\, Hawthorne\, CA\, 90304\, United States
CATEGORIES:Hawthorne
ATTACH;FMTTYPE=image/jpeg:https://www.theartisttree.com/wp-content/uploads/2026/03/June-11-Hawthorne-World-Cup-Watch-Party.jpg
END:VEVENT
END:VCALENDAR