BEGIN:VCALENDAR
VERSION:2.0
PRODID:-//The Artist Tree Marijuana Dispensary - ECPv6.15.20//NONSGML v1.0//EN
CALSCALE:GREGORIAN
METHOD:PUBLISH
X-WR-CALNAME:The Artist Tree Marijuana Dispensary
X-ORIGINAL-URL:https://www.theartisttree.com
X-WR-CALDESC:Events for The Artist Tree Marijuana Dispensary
REFRESH-INTERVAL;VALUE=DURATION:PT1H
X-Robots-Tag:noindex
X-PUBLISHED-TTL:PT1H
BEGIN:VTIMEZONE
TZID:America/Los_Angeles
BEGIN:DAYLIGHT
TZOFFSETFROM:-0800
TZOFFSETTO:-0700
TZNAME:PDT
DTSTART:20240310T100000
END:DAYLIGHT
BEGIN:STANDARD
TZOFFSETFROM:-0700
TZOFFSETTO:-0800
TZNAME:PST
DTSTART:20241103T090000
END:STANDARD
BEGIN:DAYLIGHT
TZOFFSETFROM:-0800
TZOFFSETTO:-0700
TZNAME:PDT
DTSTART:20250309T100000
END:DAYLIGHT
BEGIN:STANDARD
TZOFFSETFROM:-0700
TZOFFSETTO:-0800
TZNAME:PST
DTSTART:20251102T090000
END:STANDARD
BEGIN:DAYLIGHT
TZOFFSETFROM:-0800
TZOFFSETTO:-0700
TZNAME:PDT
DTSTART:20260308T100000
END:DAYLIGHT
BEGIN:STANDARD
TZOFFSETFROM:-0700
TZOFFSETTO:-0800
TZNAME:PST
DTSTART:20261101T090000
END:STANDARD
BEGIN:DAYLIGHT
TZOFFSETFROM:-0800
TZOFFSETTO:-0700
TZNAME:PDT
DTSTART:20270314T100000
END:DAYLIGHT
BEGIN:STANDARD
TZOFFSETFROM:-0700
TZOFFSETTO:-0800
TZNAME:PST
DTSTART:20271107T090000
END:STANDARD
END:VTIMEZONE
BEGIN:VEVENT
DTSTART;TZID=America/Los_Angeles:20260418T150000
DTEND;TZID=America/Los_Angeles:20260418T190000
DTSTAMP:20260423T120452
CREATED:20260323T173418Z
LAST-MODIFIED:20260323T214123Z
UID:33999-1776524400-1776538800@www.theartisttree.com
SUMMARY:420 Record Shop Sessions - Hawthorne
DESCRIPTION:Description: Step into a 90s record shop for a little analog nostalgia — flip through crates\, decorate your own album cover\, and sip signature mock-cocktails while the records spin. \n\nRecord Shop Pop Up\nVinyl DJ\nSignature Mock-cocktails\nAlbum Cover Decoration Station\n\nSponsored by Stiiizy & Maven \nPurchase required. No minimum spend. Show a current receipt dated 4/18 to gain entry at the door. Seating is first come\, first served.
URL:https://www.theartisttree.com/event/420-record-shop-sessions-hawthorne/
LOCATION:Cannabis Lounge <strong>Hawthorne</strong>\, 4756 W. Imperial Highway\, Hawthorne\, CA\, 90304\, United States
CATEGORIES:Hawthorne
END:VEVENT
BEGIN:VEVENT
DTSTART;TZID=America/Los_Angeles:20260417T180000
DTEND;TZID=America/Los_Angeles:20260417T210000
DTSTAMP:20260423T120452
CREATED:20260330T235421Z
LAST-MODIFIED:20260416T043229Z
UID:34047-1776448800-1776459600@www.theartisttree.com
SUMMARY:Henry’s Tasting Night 🌿
DESCRIPTION:Join us for a laid-back evening at The Artist Tree Hawthorne as we welcome Henry’s for a special in-store activation. \nExplore what Henry’s has to offer during this curated tasting experience\, where guests can connect with the brand team and get a closer look at their lineup. It’s the perfect chance to discover something new\, ask questions\, and enjoy the atmosphere with the community. \nEvent Details\n📍 Location: The Artist Tree Hawthorne 4756 W. Imperial Highway Hawthorne\, CA 90304\n📅 Date: Friday\, April 17th\, 2026\n⏰ Time: 6:00 PM – 9:00 PM \nWhat to Expect\n\nCannabis tasting experience with Henry’s\nMeet the brand team\nProduct available for on-site consumption\nA relaxed\, social lounge environment\n\nStop by\, explore the lineup\, and enjoy an evening with Henry’s at The Artist Tree. Must be 21+ to attend.
URL:https://www.theartisttree.com/event/henrys-tasting-night-%f0%9f%8c%bf-2/
LOCATION:Cannabis Lounge <strong>Hawthorne</strong>\, 4756 W. Imperial Highway\, Hawthorne\, CA\, 90304\, United States
CATEGORIES:Hawthorne
END:VEVENT
BEGIN:VEVENT
DTSTART;TZID=America/Los_Angeles:20260404T180000
DTEND;TZID=America/Los_Angeles:20260404T210000
DTSTAMP:20260423T120452
CREATED:20260330T235030Z
LAST-MODIFIED:20260330T235030Z
UID:34044-1775325600-1775336400@www.theartisttree.com
SUMMARY:Final Four Watch Party with Status 🏀🌿
DESCRIPTION:Catch all the action of the Final Four with us at The Artist Tree Hawthorne\, hosted by Status. \nJoin us for an exciting Saturday night filled with back-to-back games\, a curated tasting experience\, and complimentary snacks to keep you fueled throughout the evening. Whether you’re here for the buzzer-beaters or the vibes\, this is the perfect spot to watch\, unwind\, and enjoy the moment. \nPlus\, attendees will have the chance to win a $200 Nike gift card as part of the night’s giveaway. (Must be 21+ to participate. No purchase necessary.) \nEvent Details\n📍 Location: The Artist Tree Hawthorne 4756 W. Imperial Highway Hawthorne\, CA 90304\n📅 Date: Saturday\, April 4th\n⏰ Time: 6:00 PM – 9:00 PM \nWhat to Expect\n\nFinal Four games streaming live\nCannabis tasting hosted by Status\nComplimentary snacks\nGiveaway: chance to win a $200 Nike gift card\n\nPull up\, catch the games\, and enjoy a laid-back night with great company\, good flavors\, and nonstop hoops.
URL:https://www.theartisttree.com/event/final-four-watch-party-with-status-%f0%9f%8f%80%f0%9f%8c%bf/
LOCATION:Cannabis Lounge <strong>Hawthorne</strong>\, 4756 W. Imperial Highway\, Hawthorne\, CA\, 90304\, United States
CATEGORIES:Hawthorne
END:VEVENT
BEGIN:VEVENT
DTSTART;TZID=America/Los_Angeles:20260325T180000
DTEND;TZID=America/Los_Angeles:20260325T210000
DTSTAMP:20260423T120452
CREATED:20260311T194004Z
LAST-MODIFIED:20260311T194004Z
UID:33951-1774461600-1774472400@www.theartisttree.com
SUMMARY:710 Labs Terp Trail
DESCRIPTION:Go on a Terp Trail led by 710 Lab’s very own Lucas! Spend 45$ in the dispensary and get to participate in a journey down the terp trail trying the flavors that 710 Labs has to offer. Bring your friends and anyone else that likes to travel.
URL:https://www.theartisttree.com/event/710-labs-terp-trail-6/
LOCATION:Cannabis Lounge <strong>Hawthorne</strong>\, 4756 W. Imperial Highway\, Hawthorne\, CA\, 90304\, United States
CATEGORIES:Hawthorne
END:VEVENT
BEGIN:VEVENT
DTSTART;TZID=America/Los_Angeles:20260317T190000
DTEND;TZID=America/Los_Angeles:20260317T220000
DTSTAMP:20260423T120452
CREATED:20260311T193618Z
LAST-MODIFIED:20260311T193618Z
UID:33948-1773774000-1773784800@www.theartisttree.com
SUMMARY:Lucky Clouds: A St. Patrick’s Day Celebration
DESCRIPTION:Celebrate St. Patrick’s Day with us at the The Artist Tree Hawthorne for a festive afternoon in the lounge hosted in collaboration with 710 Labs. \nJoin us for a laid-back celebration featuring premium cannabis\, good vibes\, and a little bit of St. Patrick’s Day luck. Guests will have the chance to connect with the team from 710 Labs\, enjoy special surprises throughout the event\, and for a chance to win a Puffco device. \nWhether you’re stopping by to celebrate the holiday\, explore some incredible products\, or just hang out in the lounge with friends\, this is the perfect way to spend your St. Patrick’s Day. \nEvent Details\n📍 Location: The Artist Tree Hawthorne Lounge\n📅 Date: St. Patrick’s Day\n🍀 Theme: St. Patrick’s Day Celebration \nWhat to Expect\n\nCollaboration with 710 Labs\nChance to win a Puffco device\nSt. Patrick’s Day themed vibes\nGiveaways and surprises\nA relaxed lounge atmosphere\n\nBring your friends\, wear your green\, and come celebrate with us for a lucky night of cannabis and community.
URL:https://www.theartisttree.com/event/lucky-clouds-a-st-patricks-day-celebration/
LOCATION:Cannabis Lounge <strong>Hawthorne</strong>\, 4756 W. Imperial Highway\, Hawthorne\, CA\, 90304\, United States
CATEGORIES:Hawthorne
END:VEVENT
BEGIN:VEVENT
DTSTART;TZID=America/Los_Angeles:20260214T170000
DTEND;TZID=America/Los_Angeles:20260214T210000
DTSTAMP:20260423T120452
CREATED:20260114T194837Z
LAST-MODIFIED:20260204T193144Z
UID:29893-1771088400-1771102800@www.theartisttree.com
SUMMARY:Lit\, Lounge\, Love
DESCRIPTION:Come into The Artist Tree Hawthorne on Valentines day from 5-9PM to enjoy edible sampling and tasting with Kanha and cannabis cocktails from the lounge! Participate in a custom tote bag design station with any Kanha LOVE purchase. \nBuy two cannabis cocktails and receive a goodie bag of cannabis products to enjoy with your beverages!
URL:https://www.theartisttree.com/event/valentines-day-movie-night-with-henrys-2/
LOCATION:Cannabis Lounge <strong>Hawthorne</strong>\, 4756 W. Imperial Highway\, Hawthorne\, CA\, 90304\, United States
CATEGORIES:Hawthorne
END:VEVENT
BEGIN:VEVENT
DTSTART;TZID=America/Los_Angeles:20260208T160000
DTEND;TZID=America/Los_Angeles:20260208T180000
DTSTAMP:20260423T120452
CREATED:20251231T193736Z
LAST-MODIFIED:20251231T194103Z
UID:29497-1770566400-1770573600@www.theartisttree.com
SUMMARY:Puff\, Puff\, Paint: Get Creative With Your Buds
DESCRIPTION:We invite you to free your mind and create a unique and elevated painting experience. Come early to enjoy our lounge before getting creative. Bring an open mind and some clothes you don’t mind getting a little paint on. See you then! \nThe class will feature artist Stormy Tripp owner of The Painting Joint.
URL:https://www.theartisttree.com/event/puff-puff-paint-get-creative-with-your-buds-3/
LOCATION:Cannabis Lounge <strong>Hawthorne</strong>\, 4756 W. Imperial Highway\, Hawthorne\, CA\, 90304\, United States
CATEGORIES:Hawthorne
END:VEVENT
BEGIN:VEVENT
DTSTART;TZID=America/Los_Angeles:20260208T033000
DTEND;TZID=America/Los_Angeles:20260208T183000
DTSTAMP:20260423T120452
CREATED:20260202T212151Z
LAST-MODIFIED:20260202T212151Z
UID:31399-1770521400-1770575400@www.theartisttree.com
SUMMARY:🏈 Super Bowl Watch Party at The Artist Tree 🏈
DESCRIPTION:Game day hits different at The Artist Tree. Join us for a Super Bowl Watch Party at both our Hawthorne and West Hollywood locations\, where the screens are big\, the energy is easy\, and the lounge is dialed in for kickoff. \nWe’ll have the game on\, the crowd buzzing\, and happy hour running on drinks so you can settle in and enjoy every play without rushing it. The customer with the most team spirit will go home with a goodie bag \nGrab a seat\, pick your side\, and post up for a full night of football — Artist Tree style.
URL:https://www.theartisttree.com/event/%f0%9f%8f%88-super-bowl-watch-party-at-the-artist-tree-%f0%9f%8f%88/
LOCATION:Cannabis Lounge <strong>Hawthorne</strong>\, 4756 W. Imperial Highway\, Hawthorne\, CA\, 90304\, United States
CATEGORIES:Hawthorne
END:VEVENT
BEGIN:VEVENT
DTSTART;TZID=America/Los_Angeles:20260128T180000
DTEND;TZID=America/Los_Angeles:20260128T210000
DTSTAMP:20260423T120452
CREATED:20260115T234601Z
LAST-MODIFIED:20260115T234601Z
UID:29982-1769623200-1769634000@www.theartisttree.com
SUMMARY:710 Labs Terp Trail
DESCRIPTION:Go on a Terp Trail led by 710 Lab’s very own Lucas! Spend 45$ in the dispensary and get to participate in a journey down the terp trail trying the flavors that 710 Labs has to offer. Bring your friends and anyone else that likes to travel.
URL:https://www.theartisttree.com/event/710-labs-terp-trail-4/
LOCATION:Cannabis Lounge <strong>Hawthorne</strong>\, 4756 W. Imperial Highway\, Hawthorne\, CA\, 90304\, United States
CATEGORIES:Hawthorne
END:VEVENT
BEGIN:VEVENT
DTSTART;TZID=America/Los_Angeles:20251230T180000
DTEND;TZID=America/Los_Angeles:20251230T210000
DTSTAMP:20260423T120452
CREATED:20251202T170126Z
LAST-MODIFIED:20251202T220548Z
UID:27899-1767117600-1767128400@www.theartisttree.com
SUMMARY:710 Labs Terp Trail
DESCRIPTION:Go on a Terp Trail led by 710 Lab’s very own Lucas! Spend 45$ in the dispensary and get to participate in a journey down the terp trail trying the flavors that 710 Labs has to offer. Bring your friends and anyone else that likes to travel.
URL:https://www.theartisttree.com/event/710-labs-terp-trail-3/
LOCATION:Cannabis Lounge <strong>Hawthorne</strong>\, 4756 W. Imperial Highway\, Hawthorne\, CA\, 90304\, United States
CATEGORIES:Hawthorne
END:VEVENT
BEGIN:VEVENT
DTSTART;TZID=America/Los_Angeles:20251226T180000
DTEND;TZID=America/Los_Angeles:20251226T210000
DTSTAMP:20260423T120452
CREATED:20251202T170049Z
LAST-MODIFIED:20251202T220611Z
UID:27897-1766772000-1766782800@www.theartisttree.com
SUMMARY:710 Labs Terp Trail
DESCRIPTION:Go on a Terp Trail led by 710 Lab’s very own Lucas! Spend 45$ in the dispensary and get to participate in a journey down the terp trail trying the flavors that 710 Labs has to offer. Bring your friends and anyone else that likes to travel.
URL:https://www.theartisttree.com/event/710-labs-terp-trail-2/
LOCATION:Cannabis Lounge <strong>Hawthorne</strong>\, 4756 W. Imperial Highway\, Hawthorne\, CA\, 90304\, United States
CATEGORIES:Hawthorne
END:VEVENT
BEGIN:VEVENT
DTSTART;TZID=America/Los_Angeles:20251126T170000
DTEND;TZID=America/Los_Angeles:20251126T200000
DTSTAMP:20260423T120452
CREATED:20251118T015108Z
LAST-MODIFIED:20251118T015108Z
UID:27028-1764176400-1764187200@www.theartisttree.com
SUMMARY:710 Labs Terp Trail
DESCRIPTION:Go on a Terp Trail led by 710 Lab’s very own Lucas! Spend 45$ in the dispensary and get to participate in a journey down the terp trail trying the flavors that 710 Labs has to offer. Bring your friends and anyone else that likes to travel.
URL:https://www.theartisttree.com/event/710-labs-terp-trail/
LOCATION:Cannabis Lounge <strong>Hawthorne</strong>\, 4756 W. Imperial Highway\, Hawthorne\, CA\, 90304\, United States
CATEGORIES:Hawthorne
END:VEVENT
BEGIN:VEVENT
DTSTART;TZID=America/Los_Angeles:20251122T170000
DTEND;TZID=America/Los_Angeles:20251122T200000
DTSTAMP:20260423T120452
CREATED:20250921T195215Z
LAST-MODIFIED:20251017T161949Z
UID:22981-1763830800-1763841600@www.theartisttree.com
SUMMARY:Puff Puff Paint: Get Creative With Your Buds
DESCRIPTION:We invite you to free your mind and create a unique and elevated painting experience. Come early to enjoy our lounge before getting creative. Bring an open mind and some clothes you don’t mind getting a little paint on. See you then! \nThe class will feature artist Stormy Tripp owner of The Painting Joint.
URL:https://www.theartisttree.com/event/puff-puff-paint-get-creative-with-your-buds-2/
LOCATION:Cannabis Lounge <strong>Hawthorne</strong>\, 4756 W. Imperial Highway\, Hawthorne\, CA\, 90304\, United States
CATEGORIES:Hawthorne
END:VEVENT
BEGIN:VEVENT
DTSTART;TZID=America/Los_Angeles:20251121T180000
DTEND;TZID=America/Los_Angeles:20251121T210000
DTSTAMP:20260423T120452
CREATED:20251117T170606Z
LAST-MODIFIED:20251117T170606Z
UID:27012-1763748000-1763758800@www.theartisttree.com
SUMMARY:Mario Kart Tournament at The Artist Tree Hawthorne
DESCRIPTION:Rev up your engines and pull up to The Artist Tree Hawthorne for a night of friendly chaos\, button-mashing glory\, and a little elevated fun. We’re hosting a Mario Kart Tournament with our friends at Terp Gods and St. Ides\, and yes — things might get a little competitive. \nTerp Gods will be holding it down with complimentary dabs\, St. Ides is helping keep the energy up\, and we’ll have plenty of games going all evening long. Race your way through the brackets\, dodge a few blue shells\, and take your shot at the grand prize waiting at the finish line. \nWhether you’re rolling in to compete or just hang with the community\, it’s going to be a solid night at the lounge.
URL:https://www.theartisttree.com/event/mario-kart-tournament-at-the-artist-tree-hawthorne/
LOCATION:Cannabis Lounge <strong>Hawthorne</strong>\, 4756 W. Imperial Highway\, Hawthorne\, CA\, 90304\, United States
CATEGORIES:Hawthorne
END:VEVENT
END:VCALENDAR