BEGIN:VCALENDAR
VERSION:2.0
PRODID:-//The Artist Tree Marijuana Dispensary - ECPv6.15.20//NONSGML v1.0//EN
CALSCALE:GREGORIAN
METHOD:PUBLISH
X-WR-CALNAME:The Artist Tree Marijuana Dispensary
X-ORIGINAL-URL:https://www.theartisttree.com
X-WR-CALDESC:Events for The Artist Tree Marijuana Dispensary
REFRESH-INTERVAL;VALUE=DURATION:PT1H
X-Robots-Tag:noindex
X-PUBLISHED-TTL:PT1H
BEGIN:VTIMEZONE
TZID:America/Los_Angeles
BEGIN:DAYLIGHT
TZOFFSETFROM:-0800
TZOFFSETTO:-0700
TZNAME:PDT
DTSTART:20250309T100000
END:DAYLIGHT
BEGIN:STANDARD
TZOFFSETFROM:-0700
TZOFFSETTO:-0800
TZNAME:PST
DTSTART:20251102T090000
END:STANDARD
BEGIN:DAYLIGHT
TZOFFSETFROM:-0800
TZOFFSETTO:-0700
TZNAME:PDT
DTSTART:20260308T100000
END:DAYLIGHT
BEGIN:STANDARD
TZOFFSETFROM:-0700
TZOFFSETTO:-0800
TZNAME:PST
DTSTART:20261101T090000
END:STANDARD
BEGIN:DAYLIGHT
TZOFFSETFROM:-0800
TZOFFSETTO:-0700
TZNAME:PDT
DTSTART:20270314T100000
END:DAYLIGHT
BEGIN:STANDARD
TZOFFSETFROM:-0700
TZOFFSETTO:-0800
TZNAME:PST
DTSTART:20271107T090000
END:STANDARD
END:VTIMEZONE
BEGIN:VEVENT
DTSTART;TZID=America/Los_Angeles:20260110T180000
DTEND;TZID=America/Los_Angeles:20260110T210000
DTSTAMP:20260424T034443
CREATED:20260107T172010Z
LAST-MODIFIED:20260107T172010Z
UID:29718-1768068000-1768078800@www.theartisttree.com
SUMMARY:Jetty and Coastal Sun Sesh At the Artist Tree
DESCRIPTION:Kick back with us on January 10th from 6–9 PM at The Artist Tree West Hollywood for an easygoing smoke sesh hosted by Jetty and Coastal Sun. This one’s all about slowing down\, connecting with the community\, and enjoying the lounge the way it was meant to be enjoyed. \nJetty and Coastal Sun will be in the house sharing their latest drops\, chatting terps\, and keeping the energy mellow all evening. Pull up\, light up\, and spend the night hanging with good people and solid brands in a space built for exactly this kind of moment.
URL:https://www.theartisttree.com/event/jetty-and-coastal-sun-sesh-at-the-artist-tree/
LOCATION:Cannabis Lounge <strong>West Hollywood</strong>\, CA\, United States
CATEGORIES:Weho
END:VEVENT
BEGIN:VEVENT
DTSTART;TZID=America/Los_Angeles:20260118T140000
DTEND;TZID=America/Los_Angeles:20260118T160000
DTSTAMP:20260424T034443
CREATED:20260114T194400Z
LAST-MODIFIED:20260114T194400Z
UID:29884-1768744800-1768752000@www.theartisttree.com
SUMMARY:Pen Pushers Club
DESCRIPTION:A club for poets that like to consume cannabis while working in a group setting to develop their skills.
URL:https://www.theartisttree.com/event/pen-pushers-club/
LOCATION:Cannabis Lounge <strong>West Hollywood</strong>\, CA\, United States
CATEGORIES:Weho
END:VEVENT
END:VCALENDAR