BEGIN:VCALENDAR
VERSION:2.0
PRODID:-//The Artist Tree Marijuana Dispensary - ECPv6.15.20//NONSGML v1.0//EN
CALSCALE:GREGORIAN
METHOD:PUBLISH
X-ORIGINAL-URL:https://www.theartisttree.com
X-WR-CALDESC:Events for The Artist Tree Marijuana Dispensary
REFRESH-INTERVAL;VALUE=DURATION:PT1H
X-Robots-Tag:noindex
X-PUBLISHED-TTL:PT1H
BEGIN:VTIMEZONE
TZID:America/Los_Angeles
BEGIN:DAYLIGHT
TZOFFSETFROM:-0800
TZOFFSETTO:-0700
TZNAME:PDT
DTSTART:20250309T100000
END:DAYLIGHT
BEGIN:STANDARD
TZOFFSETFROM:-0700
TZOFFSETTO:-0800
TZNAME:PST
DTSTART:20251102T090000
END:STANDARD
BEGIN:DAYLIGHT
TZOFFSETFROM:-0800
TZOFFSETTO:-0700
TZNAME:PDT
DTSTART:20260308T100000
END:DAYLIGHT
BEGIN:STANDARD
TZOFFSETFROM:-0700
TZOFFSETTO:-0800
TZNAME:PST
DTSTART:20261101T090000
END:STANDARD
BEGIN:DAYLIGHT
TZOFFSETFROM:-0800
TZOFFSETTO:-0700
TZNAME:PDT
DTSTART:20270314T100000
END:DAYLIGHT
BEGIN:STANDARD
TZOFFSETFROM:-0700
TZOFFSETTO:-0800
TZNAME:PST
DTSTART:20271107T090000
END:STANDARD
END:VTIMEZONE
BEGIN:VEVENT
DTSTART;TZID=America/Los_Angeles:20260205T180000
DTEND;TZID=America/Los_Angeles:20260205T210000
DTSTAMP:20260423T235531
CREATED:20260114T194617Z
LAST-MODIFIED:20260114T194617Z
UID:29888-1770314400-1770325200@www.theartisttree.com
SUMMARY:Tracks N Wax
DESCRIPTION:We’re spinning things a little differently with Tracks N Wax\, a chill consumption event where live DJ sets\, donuts\, and cannabis samples all share the same table. Pull up to The Artist Tree West Hollywood and settle into an evening built around good music\, easy conversations\, and flavors worth talking about. \nExpect a live DJ setting the tone\, curated cannabis products to sample\, and donuts on deck to keep things balanced. It’s part listening session\, part hang\, and all about enjoying the moment without rushing it. \nCome for the tracks. Stay for the wax. And maybe grab a donut while you’re at it.
URL:https://www.theartisttree.com/event/tracks-n-wax/
LOCATION:Cannabis Lounge <strong>West Hollywood</strong>\, CA\, United States
CATEGORIES:Weho
END:VEVENT
BEGIN:VEVENT
DTSTART;TZID=America/Los_Angeles:20260208T033000
DTEND;TZID=America/Los_Angeles:20260208T183000
DTSTAMP:20260423T235531
CREATED:20260202T212220Z
LAST-MODIFIED:20260202T212220Z
UID:31401-1770521400-1770575400@www.theartisttree.com
SUMMARY:🏈 Super Bowl Watch Party at The Artist Tree 🏈
DESCRIPTION:Game day hits different at The Artist Tree. Join us for a Super Bowl Watch Party at both our Hawthorne and West Hollywood locations\, where the screens are big\, the energy is easy\, and the lounge is dialed in for kickoff. \nWe’ll have the game on\, the crowd buzzing\, and happy hour running on drinks so you can settle in and enjoy every play without rushing it. The customer with the most team spirit will go home with a goodie bag \nGrab a seat\, pick your side\, and post up for a full night of football — Artist Tree style.
URL:https://www.theartisttree.com/event/%f0%9f%8f%88-super-bowl-watch-party-at-the-artist-tree-%f0%9f%8f%88-2/
LOCATION:Cannabis Lounge <strong>West Hollywood</strong>\, CA\, United States
CATEGORIES:Weho
END:VEVENT
BEGIN:VEVENT
DTSTART;TZID=America/Los_Angeles:20260214T170000
DTEND;TZID=America/Los_Angeles:20260214T210000
DTSTAMP:20260423T235531
CREATED:20260114T194755Z
LAST-MODIFIED:20260210T193813Z
UID:29891-1771088400-1771102800@www.theartisttree.com
SUMMARY:Valentines Day Movie Night with Henry's
DESCRIPTION:This February 14th from 6–9 PM\, we’re setting the mood for Valentine’s Day Movie Night at The Artist Tree\, with a special lounge activation hosted by Henry’s Original — happening at both our Hawthorne and West Hollywood locations. \nSettle in for a cozy movie night and enjoy the chance to sample Henry’s Original products while exploring an exclusive bundle option curated just for the evening. It’s a relaxed way to try something new\, hang with your date (or your friends)\, and enjoy the lounge in full comfort. \nWhether you’re celebrating love\, friendship\, or just a good movie and a good seat\, this one’s all about easy connection and thoughtful indulgence — Valentine’s Day\, the Artist Tree way.
URL:https://www.theartisttree.com/event/valentines-day-movie-night-with-henrys/
LOCATION:Cannabis Lounge <strong>West Hollywood</strong>\, CA\, United States
CATEGORIES:Weho
END:VEVENT
BEGIN:VEVENT
DTSTART;TZID=America/Los_Angeles:20260219T180000
DTEND;TZID=America/Los_Angeles:20260219T210000
DTSTAMP:20260423T235531
CREATED:20260204T193052Z
LAST-MODIFIED:20260204T193052Z
UID:31725-1771524000-1771534800@www.theartisttree.com
SUMMARY:MJBowl Grand Tasting
DESCRIPTION:Budist invites you to experience the 1st Place winners from the 2025 MJBowl through a series of guided tastings hosted inside The Artist Tree West Hollywood consumption lounge on Thursday February 19th from 6-9pm.
URL:https://www.theartisttree.com/event/mjbowl-grand-tasting/
LOCATION:Cannabis Lounge <strong>West Hollywood</strong>\, CA\, United States
CATEGORIES:Weho
END:VEVENT
END:VCALENDAR