BEGIN:VCALENDAR
VERSION:2.0
PRODID:-//The Artist Tree Marijuana Dispensary - ECPv6.15.20//NONSGML v1.0//EN
CALSCALE:GREGORIAN
METHOD:PUBLISH
X-WR-CALNAME:The Artist Tree Marijuana Dispensary
X-ORIGINAL-URL:https://www.theartisttree.com
X-WR-CALDESC:Events for The Artist Tree Marijuana Dispensary
REFRESH-INTERVAL;VALUE=DURATION:PT1H
X-Robots-Tag:noindex
X-PUBLISHED-TTL:PT1H
BEGIN:VTIMEZONE
TZID:America/Los_Angeles
BEGIN:DAYLIGHT
TZOFFSETFROM:-0800
TZOFFSETTO:-0700
TZNAME:PDT
DTSTART:20250309T100000
END:DAYLIGHT
BEGIN:STANDARD
TZOFFSETFROM:-0700
TZOFFSETTO:-0800
TZNAME:PST
DTSTART:20251102T090000
END:STANDARD
BEGIN:DAYLIGHT
TZOFFSETFROM:-0800
TZOFFSETTO:-0700
TZNAME:PDT
DTSTART:20260308T100000
END:DAYLIGHT
BEGIN:STANDARD
TZOFFSETFROM:-0700
TZOFFSETTO:-0800
TZNAME:PST
DTSTART:20261101T090000
END:STANDARD
BEGIN:DAYLIGHT
TZOFFSETFROM:-0800
TZOFFSETTO:-0700
TZNAME:PDT
DTSTART:20270314T100000
END:DAYLIGHT
BEGIN:STANDARD
TZOFFSETFROM:-0700
TZOFFSETTO:-0800
TZNAME:PST
DTSTART:20271107T090000
END:STANDARD
END:VTIMEZONE
BEGIN:VEVENT
DTSTART;TZID=America/Los_Angeles:20260524T160000
DTEND;TZID=America/Los_Angeles:20260524T180000
DTSTAMP:20260423T162525
CREATED:20260402T184355Z
LAST-MODIFIED:20260416T050339Z
UID:34088-1779638400-1779645600@www.theartisttree.com
SUMMARY:Puff\, Puff\, Paint: Get Creative With Your Buds
DESCRIPTION:We invite you to free your mind and create a unique and elevated painting experience. Come early to enjoy our lounge before getting creative. Bring an open mind and some clothes you don’t mind getting a little paint on. See you then! \nThe class will feature artist Stormy Tripp owner of The Painting Joint.
URL:https://www.theartisttree.com/event/puff-puff-paint-get-creative-with-your-buds-6/
LOCATION:Cannabis Lounge <strong>West Hollywood</strong>\, CA\, United States
CATEGORIES:Weho
ATTACH;FMTTYPE=image/jpeg:https://www.theartisttree.com/wp-content/uploads/2026/03/May-24-WeHo-Spring-Landscape-May.jpg
END:VEVENT
END:VCALENDAR