BEGIN:VCALENDAR
VERSION:2.0
PRODID:-//The Artist Tree Marijuana Dispensary - ECPv6.15.20//NONSGML v1.0//EN
CALSCALE:GREGORIAN
METHOD:PUBLISH
X-ORIGINAL-URL:https://www.theartisttree.com
X-WR-CALDESC:Events for The Artist Tree Marijuana Dispensary
REFRESH-INTERVAL;VALUE=DURATION:PT1H
X-Robots-Tag:noindex
X-PUBLISHED-TTL:PT1H
BEGIN:VTIMEZONE
TZID:America/Los_Angeles
BEGIN:DAYLIGHT
TZOFFSETFROM:-0800
TZOFFSETTO:-0700
TZNAME:PDT
DTSTART:20250309T100000
END:DAYLIGHT
BEGIN:STANDARD
TZOFFSETFROM:-0700
TZOFFSETTO:-0800
TZNAME:PST
DTSTART:20251102T090000
END:STANDARD
BEGIN:DAYLIGHT
TZOFFSETFROM:-0800
TZOFFSETTO:-0700
TZNAME:PDT
DTSTART:20260308T100000
END:DAYLIGHT
BEGIN:STANDARD
TZOFFSETFROM:-0700
TZOFFSETTO:-0800
TZNAME:PST
DTSTART:20261101T090000
END:STANDARD
BEGIN:DAYLIGHT
TZOFFSETFROM:-0800
TZOFFSETTO:-0700
TZNAME:PDT
DTSTART:20270314T100000
END:DAYLIGHT
BEGIN:STANDARD
TZOFFSETFROM:-0700
TZOFFSETTO:-0800
TZNAME:PST
DTSTART:20271107T090000
END:STANDARD
END:VTIMEZONE
BEGIN:VEVENT
DTSTART;TZID=America/Los_Angeles:20260402T180000
DTEND;TZID=America/Los_Angeles:20260402T210000
DTSTAMP:20260423T153356
CREATED:20260330T234917Z
LAST-MODIFIED:20260330T234917Z
UID:34043-1775152800-1775163600@www.theartisttree.com
SUMMARY:Trax on Wax: A Night with Jetty 🎶🌿
DESCRIPTION:Join us for Trax on Wax\, an elevated evening of music\, flavor\, and community at The Artist Tree West Hollywood\, featuring Jetty as our special guest. \nSet the vibe with a live DJ curated by Jetty\, enjoy complimentary bites\, and explore a curated tasting experience highlighting some of the brand’s standout offerings. Whether you’re coming for the music\, the flavors\, or the atmosphere\, this is the perfect way to kick off your Thursday night. \nEvent Details\n📍 Location: The Artist Tree West Hollywood 8625 Santa Monica Blvd. West Hollywood\, CA 90069 \n📅 Date: Thursday\, April 2\n⏰ Time: 6:00 PM – 9:00 PM \nWhat to Expect\n\nLive DJ set by Jetty\nCannabis tasting experience\nComplimentary food\nA laid-back\, music-driven lounge vibe\n\nCome through\, catch a vibe\, and experience Trax on Wax with Jetty. Must be 21+ to attend.
URL:https://www.theartisttree.com/event/trax-on-wax-a-night-with-jetty-%f0%9f%8e%b6%f0%9f%8c%bf/
LOCATION:Cannabis Lounge <strong>West Hollywood</strong>\, CA\, United States
CATEGORIES:Weho
END:VEVENT
END:VCALENDAR