BEGIN:VCALENDAR
VERSION:2.0
PRODID:-//The Artist Tree Marijuana Dispensary - ECPv6.15.20//NONSGML v1.0//EN
CALSCALE:GREGORIAN
METHOD:PUBLISH
X-WR-CALNAME:The Artist Tree Marijuana Dispensary
X-ORIGINAL-URL:https://www.theartisttree.com
X-WR-CALDESC:Events for The Artist Tree Marijuana Dispensary
REFRESH-INTERVAL;VALUE=DURATION:PT1H
X-Robots-Tag:noindex
X-PUBLISHED-TTL:PT1H
BEGIN:VTIMEZONE
TZID:America/Los_Angeles
BEGIN:DAYLIGHT
TZOFFSETFROM:-0800
TZOFFSETTO:-0700
TZNAME:PDT
DTSTART:20240310T100000
END:DAYLIGHT
BEGIN:STANDARD
TZOFFSETFROM:-0700
TZOFFSETTO:-0800
TZNAME:PST
DTSTART:20241103T090000
END:STANDARD
BEGIN:DAYLIGHT
TZOFFSETFROM:-0800
TZOFFSETTO:-0700
TZNAME:PDT
DTSTART:20250309T100000
END:DAYLIGHT
BEGIN:STANDARD
TZOFFSETFROM:-0700
TZOFFSETTO:-0800
TZNAME:PST
DTSTART:20251102T090000
END:STANDARD
BEGIN:DAYLIGHT
TZOFFSETFROM:-0800
TZOFFSETTO:-0700
TZNAME:PDT
DTSTART:20260308T100000
END:DAYLIGHT
BEGIN:STANDARD
TZOFFSETFROM:-0700
TZOFFSETTO:-0800
TZNAME:PST
DTSTART:20261101T090000
END:STANDARD
END:VTIMEZONE
BEGIN:VEVENT
DTSTART;TZID=America/Los_Angeles:20251108T190000
DTEND;TZID=America/Los_Angeles:20251108T220000
DTSTAMP:20260424T064031
CREATED:20251030T200341Z
LAST-MODIFIED:20251030T200341Z
UID:25615-1762628400-1762639200@www.theartisttree.com
SUMMARY:🎶 THC n Techno Rave with The Artist Tree🎶
DESCRIPTION:Get ready for an electric night of Techno\, Terps\, and THC. Join us as Jetty takes over the lounge alongside CAM and Kanha\, keeping the energy high and the beats rolling late into the night. \nFIETZE will be on deck spinning nonstop techno sets from 7–10 PM\, setting the tempo for a night you won’t forget. Come dance\, connect\, and celebrate the art of sound (and smoke) — The Artist Tree style.
URL:https://www.theartisttree.com/event/%f0%9f%8e%b6-thc-n-techno-rave-with-the-artist-tree%f0%9f%8e%b6/
LOCATION:Cannabis Lounge <strong>West Hollywood</strong>\, CA\, United States
CATEGORIES:Weho
END:VEVENT
END:VCALENDAR